BEGIN:VCALENDAR
VERSION:2.0
PRODID:-//185.36.180.143//NONSGML kigkonsult.se iCalcreator 2.26.9//
CALSCALE:GREGORIAN
METHOD:PUBLISH
X-WR-CALNAME:CISRO
X-WR-CALDESC:CENTRE D&#039\;INCENDIE ET DE SECOURS ROESERBANN
X-FROM-URL:https://cisro.lu
X-WR-TIMEZONE:Europe/Berlin
BEGIN:VTIMEZONE
TZID:Europe/Berlin
X-LIC-LOCATION:Europe/Berlin
BEGIN:STANDARD
DTSTART:20201025T030000
TZOFFSETFROM:+0200
TZOFFSETTO:+0100
RDATE:20211031T030000
TZNAME:CET
END:STANDARD
BEGIN:DAYLIGHT
DTSTART:20210328T020000
TZOFFSETFROM:+0100
TZOFFSETTO:+0200
RDATE:20220327T020000
TZNAME:CEST
END:DAYLIGHT
END:VTIMEZONE
BEGIN:VEVENT
UID:ai1ec-4999@cisro.lu
DTSTAMP:20210426T111924Z
CATEGORIES:
CONTACT:
DESCRIPTION:Tenue: Gala Uniform\nD’Kanner gi mat mam Fakelzuch erop bei d B
 uerg\, Ofbrennen 19:00 vun der Buerg\,\nDono gëtt et Iessen an Gedrénks am
  Bau\, d Elteren sinn häerzlechst Invitéiert owes um Buergbrennen deel ze 
 huele.
DTSTART;TZID=Europe/Berlin:20200301T170000
SEQUENCE:0
SUMMARY:Buergbrennen
URL:https://cisro.lu/Veranstaltung/buergbrennen/
X-COST-TYPE:free
X-ALT-DESC;FMTTYPE=text/html:<!DOCTYPE HTML PUBLIC '-//W3C//DTD HTML 3.2//E
 N'>\\n<HTML>\\n<HEAD>\\n<TITLE></TITLE>\\n</HEAD>\\n<BODY><p>Tenue: Gala U
 niform</p>\n<p>D’Kanner gi mat mam Fakelzuch erop bei d Buerg\, Ofbrennen 
 19:00 vun der Buerg\,</p>\n<p>Dono gëtt et Iessen an Gedrénks am Bau\, d E
 lteren sinn häerzlechst Invitéiert owes um Buergbrennen deel ze huele.</p>
 \n</BODY></HTML>
X-INSTANT-EVENT:1
END:VEVENT
END:VCALENDAR
