BEGIN:VCALENDAR
VERSION:2.0
PRODID:-//185.36.180.143//NONSGML kigkonsult.se iCalcreator 2.26.9//
CALSCALE:GREGORIAN
METHOD:PUBLISH
X-WR-CALNAME:CISRO
X-WR-CALDESC:CENTRE D&#039\;INCENDIE ET DE SECOURS ROESERBANN
X-FROM-URL:https://cisro.lu
X-WR-TIMEZONE:Europe/Berlin
BEGIN:VTIMEZONE
TZID:Europe/Berlin
X-LIC-LOCATION:Europe/Berlin
BEGIN:STANDARD
DTSTART:20201025T030000
TZOFFSETFROM:+0200
TZOFFSETTO:+0100
RDATE:20211031T030000
TZNAME:CET
END:STANDARD
BEGIN:DAYLIGHT
DTSTART:20210328T020000
TZOFFSETFROM:+0100
TZOFFSETTO:+0200
RDATE:20220327T020000
TZNAME:CEST
END:DAYLIGHT
END:VTIMEZONE
BEGIN:VEVENT
UID:ai1ec-4994@cisro.lu
DTSTAMP:20210426T111845Z
CATEGORIES:
CONTACT:
DESCRIPTION:Umellen bis den 9 Januar beim Jessica\nTenue: Gala Uniform\, Fe
 st Schong\, Mutz\, Händchen dem Wieder entspriechend.\nJugend aus der Regi
 oun Süd geet zesummen treppelen.\nDozweschent kréien d Kanner eppes z’iess
 en an ze drénken.
DTSTART;TZID=Europe/Berlin:20200125T130000
DTEND;TZID=Europe/Berlin:20200125T180000
SEQUENCE:0
SUMMARY:Wanterwanderung zu Monnerech
URL:https://cisro.lu/Veranstaltung/wanterwanderung-zu-monnerech/
X-COST-TYPE:free
X-ALT-DESC;FMTTYPE=text/html:<!DOCTYPE HTML PUBLIC '-//W3C//DTD HTML 3.2//E
 N'>\\n<HTML>\\n<HEAD>\\n<TITLE></TITLE>\\n</HEAD>\\n<BODY><p>Umellen bis d
 en 9 Januar beim Jessica</p>\n<p>Tenue: Gala Uniform\, Fest Schong\, Mutz\
 , Händchen dem Wieder entspriechend.</p>\n<p>Jugend aus der Regioun Süd ge
 et zesummen treppelen.</p>\n<p>Dozweschent kréien d Kanner eppes z’iessen 
 an ze drénken.</p>\n</BODY></HTML>
END:VEVENT
END:VCALENDAR
