BEGIN:VCALENDAR
VERSION:2.0
PRODID:-//185.36.180.143//NONSGML kigkonsult.se iCalcreator 2.26.9//
CALSCALE:GREGORIAN
METHOD:PUBLISH
X-WR-CALNAME:CISRO
X-WR-CALDESC:CENTRE D&#039\;INCENDIE ET DE SECOURS ROESERBANN
X-FROM-URL:https://cisro.lu
X-WR-TIMEZONE:Europe/Berlin
BEGIN:VTIMEZONE
TZID:Europe/Berlin
X-LIC-LOCATION:Europe/Berlin
BEGIN:STANDARD
DTSTART:20201025T030000
TZOFFSETFROM:+0200
TZOFFSETTO:+0100
RDATE:20211031T030000
TZNAME:CET
END:STANDARD
BEGIN:DAYLIGHT
DTSTART:20210328T020000
TZOFFSETFROM:+0100
TZOFFSETTO:+0200
RDATE:20220327T020000
TZNAME:CEST
END:DAYLIGHT
END:VTIMEZONE
BEGIN:VEVENT
UID:ai1ec-4757@cisro.lu
DTSTAMP:20210426T111739Z
CATEGORIES:
CONTACT:
DESCRIPTION:Umëllen beim Jessica bis den 8 ten Oktober\,\nMinimes          
   8-9 Joër 25 m\nPuppilles 1     10-12 Joër 50m\nPuppilles2      13-15 Joë
 r 50m\nDei wou matschwammen kreien vum Jessica een Ziedel mat der Autorisa
 tion Parentale.
DTSTART;TZID=Europe/Berlin:20191020T130000
DTEND;TZID=Europe/Berlin:20191020T180000
SEQUENCE:0
SUMMARY:Schwammmeeschterschaft
URL:https://cisro.lu/Veranstaltung/schwammmeeschterschaft/
X-COST-TYPE:free
X-ALT-DESC;FMTTYPE=text/html:<!DOCTYPE HTML PUBLIC '-//W3C//DTD HTML 3.2//E
 N'>\\n<HTML>\\n<HEAD>\\n<TITLE></TITLE>\\n</HEAD>\\n<BODY><p>Umëllen beim 
 Jessica bis den 8 ten Oktober\,<br />\nMinimes            8-9 Joër 25 m<br
  />\nPuppilles 1     10-12 Joër 50m<br />\nPuppilles2      13-15 Joër 50m<
 /p>\n<p>Dei wou matschwammen kreien vum Jessica een Ziedel mat der Autoris
 ation Parentale.</p>\n</BODY></HTML>
END:VEVENT
END:VCALENDAR
