BEGIN:VCALENDAR
VERSION:2.0
PRODID:-//185.36.180.143//NONSGML kigkonsult.se iCalcreator 2.26.9//
CALSCALE:GREGORIAN
METHOD:PUBLISH
X-WR-CALNAME:CISRO
X-WR-CALDESC:CENTRE D&#039\;INCENDIE ET DE SECOURS ROESERBANN
X-FROM-URL:https://cisro.lu
X-WR-TIMEZONE:Europe/Berlin
BEGIN:VTIMEZONE
TZID:Europe/Berlin
X-LIC-LOCATION:Europe/Berlin
BEGIN:STANDARD
DTSTART:20201025T030000
TZOFFSETFROM:+0200
TZOFFSETTO:+0100
RDATE:20211031T030000
TZNAME:CET
END:STANDARD
BEGIN:DAYLIGHT
DTSTART:20210328T020000
TZOFFSETFROM:+0100
TZOFFSETTO:+0200
RDATE:20220327T020000
TZNAME:CEST
END:DAYLIGHT
END:VTIMEZONE
BEGIN:VEVENT
UID:ai1ec-4623@cisro.lu
DTSTAMP:20210426T111703Z
CATEGORIES:
CONTACT:
DESCRIPTION:Ugemällt sin: Bernardo\, Gilles\, Charel\, Alfonso O\, Lilly\, 
 Maria-Klara\, Bryan\, Jos a Lex.\nDepart as um 7:30 am Bau.\nMir fuhren ob
  Simmern( D).\nAss een Rally mat Froen an Spiller.\nRetour nom Rally fir 1
 9:00.
DTSTART;TZID=Europe/Berlin:20190922T073000
DTEND;TZID=Europe/Berlin:20190922T190000
SEQUENCE:0
SUMMARY:Jospeh Mumbauer Gedächtnis Pokal
URL:https://cisro.lu/Veranstaltung/jospeh-mumbauer-gedaechtnis-pokal/
X-COST-TYPE:free
X-ALT-DESC;FMTTYPE=text/html:<!DOCTYPE HTML PUBLIC '-//W3C//DTD HTML 3.2//E
 N'>\\n<HTML>\\n<HEAD>\\n<TITLE></TITLE>\\n</HEAD>\\n<BODY><p>Ugemällt sin:
  Bernardo\, Gilles\, Charel\, Alfonso O\, Lilly\, Maria-Klara\, Bryan\, Jo
 s a Lex.<br />\nDepart as um 7:30 am Bau.<br />\nMir fuhren ob Simmern( D)
 .<br />\nAss een Rally mat Froen an Spiller.<br />\nRetour nom Rally fir 1
 9:00.</p>\n</BODY></HTML>
END:VEVENT
END:VCALENDAR
