BEGIN:VCALENDAR
VERSION:2.0
PRODID:-//185.36.180.143//NONSGML kigkonsult.se iCalcreator 2.26.9//
CALSCALE:GREGORIAN
METHOD:PUBLISH
X-WR-CALNAME:CISRO
X-WR-CALDESC:CENTRE D&#039\;INCENDIE ET DE SECOURS ROESERBANN
X-FROM-URL:https://cisro.lu
X-WR-TIMEZONE:Europe/Berlin
BEGIN:VTIMEZONE
TZID:Europe/Berlin
X-LIC-LOCATION:Europe/Berlin
BEGIN:STANDARD
DTSTART:20201025T030000
TZOFFSETFROM:+0200
TZOFFSETTO:+0100
RDATE:20211031T030000
TZNAME:CET
END:STANDARD
BEGIN:DAYLIGHT
DTSTART:20210328T020000
TZOFFSETFROM:+0100
TZOFFSETTO:+0200
RDATE:20220327T020000
TZNAME:CEST
END:DAYLIGHT
END:VTIMEZONE
BEGIN:VEVENT
UID:ai1ec-4574@cisro.lu
DTSTAMP:20210426T111717Z
CATEGORIES:
CONTACT:
DESCRIPTION:Rendez-vous um 8:30 Auer am Bau\nRetour am Nomëtteg\nMathuelen:
  1 Fläsch Waasser\, normalt Gezei undin mat festen schong(dem Wieder entsp
 tichend).\nNom Rally get et äppes ziessen\, dono kommen d Kanner heem.\nUg
 emëllt sin:\nJulie\,Jos\,Lex\, Gilles\, Maria-Klara\, Bryan\, Charel an Af
 onso O.\nUmëllen beim Jessica bis den 20.9.2019\nAn Hand vun Fotoen mussen
  mir eisen Wee sichen.\nGalauniform an Treppelschong.
DTSTART;TZID=Europe/Berlin:20190929T083000
DTEND;TZID=Europe/Berlin:20190929T130000
SEQUENCE:0
SUMMARY:Fotorally zu Esch
URL:https://cisro.lu/Veranstaltung/fotorally-zu-esch/
X-COST-TYPE:free
X-ALT-DESC;FMTTYPE=text/html:<!DOCTYPE HTML PUBLIC '-//W3C//DTD HTML 3.2//E
 N'>\\n<HTML>\\n<HEAD>\\n<TITLE></TITLE>\\n</HEAD>\\n<BODY><p>Rendez-vous u
 m 8:30 Auer am Bau<br />\nRetour am Nomëtteg</p>\n<p>Mathuelen: 1 Fläsch W
 aasser\, normalt Gezei undin mat festen schong(dem Wieder entsptichend).</
 p>\n<p>Nom Rally get et äppes ziessen\, dono kommen d Kanner heem.</p>\n<p
 >Ugemëllt sin:</p>\n<p>Julie\,Jos\,Lex\, Gilles\, Maria-Klara\, Bryan\, Ch
 arel an Afonso O.</p>\n<p>Umëllen beim Jessica bis den 20.9.2019</p>\n<p>A
 n Hand vun Fotoen mussen mir eisen Wee sichen.</p>\n<p>Galauniform an Trep
 pelschong.</p>\n</BODY></HTML>
END:VEVENT
END:VCALENDAR
