BEGIN:VCALENDAR
VERSION:2.0
PRODID:-//185.36.180.143//NONSGML kigkonsult.se iCalcreator 2.26.9//
CALSCALE:GREGORIAN
METHOD:PUBLISH
X-WR-CALNAME:CISRO
X-WR-CALDESC:CENTRE D&#039\;INCENDIE ET DE SECOURS ROESERBANN
X-FROM-URL:https://cisro.lu
X-WR-TIMEZONE:Europe/Berlin
BEGIN:VTIMEZONE
TZID:Europe/Berlin
X-LIC-LOCATION:Europe/Berlin
BEGIN:STANDARD
DTSTART:20201025T030000
TZOFFSETFROM:+0200
TZOFFSETTO:+0100
RDATE:20211031T030000
TZNAME:CET
END:STANDARD
BEGIN:DAYLIGHT
DTSTART:20210328T020000
TZOFFSETFROM:+0100
TZOFFSETTO:+0200
RDATE:20220327T020000
TZNAME:CEST
END:DAYLIGHT
END:VTIMEZONE
BEGIN:VEVENT
UID:ai1ec-4573@cisro.lu
DTSTAMP:20210426T111710Z
CATEGORIES:
CONTACT:
DESCRIPTION:Rendez-vous um 13.10 am Bau\, Retour géint 18.00\nMathuelen: La
 afsaachen(dem Wieder entspriechend)\, Duschsaachen\,1 Fläch Waasser\nUgeme
 llt sin: Jos\, Gilles\, Maria-Klara an Bryan\nNom Croos kommen mer heem.\n
 Deen do well matgoen\, soll sech bis den 20 September beim Jessica unmëlle
 n.\n8-9 Joër       800 m\n10-12 Joër   800 m\n13-15 Joër 1600 m
DTSTART;TZID=Europe/Berlin:20190928T131000
DTEND;TZID=Europe/Berlin:20190928T180000
SEQUENCE:0
SUMMARY:Nationale Cross zu Miersch
URL:https://cisro.lu/Veranstaltung/nationale-cross-zu-miersch/
X-COST-TYPE:free
X-ALT-DESC;FMTTYPE=text/html:<!DOCTYPE HTML PUBLIC '-//W3C//DTD HTML 3.2//E
 N'>\\n<HTML>\\n<HEAD>\\n<TITLE></TITLE>\\n</HEAD>\\n<BODY><p>Rendez-vous u
 m 13.10 am Bau\, Retour géint 18.00</p>\n<p>Mathuelen: Laafsaachen(dem Wie
 der entspriechend)\, Duschsaachen\,1 Fläch Waasser</p>\n<p>Ugemellt sin: J
 os\, Gilles\, Maria-Klara an Bryan</p>\n<p>Nom Croos kommen mer heem.</p>
 \n<p>Deen do well matgoen\, soll sech bis den 20 September beim Jessica un
 mëllen.</p>\n<p>8-9 Joër       800 m</p>\n<p>10-12 Joër   800 m</p>\n<p>13
 -15 Joër 1600 m</p>\n</BODY></HTML>
END:VEVENT
END:VCALENDAR
