BEGIN:VCALENDAR
VERSION:2.0
PRODID:-//185.36.180.143//NONSGML kigkonsult.se iCalcreator 2.26.9//
CALSCALE:GREGORIAN
METHOD:PUBLISH
X-WR-CALNAME:CISRO
X-WR-CALDESC:CENTRE D&#039\;INCENDIE ET DE SECOURS ROESERBANN
X-FROM-URL:https://cisro.lu
X-WR-TIMEZONE:Europe/Berlin
BEGIN:VTIMEZONE
TZID:Europe/Berlin
X-LIC-LOCATION:Europe/Berlin
BEGIN:STANDARD
DTSTART:20201025T030000
TZOFFSETFROM:+0200
TZOFFSETTO:+0100
RDATE:20211031T030000
TZNAME:CET
END:STANDARD
BEGIN:DAYLIGHT
DTSTART:20210328T020000
TZOFFSETFROM:+0100
TZOFFSETTO:+0200
RDATE:20220327T020000
TZNAME:CEST
END:DAYLIGHT
END:VTIMEZONE
BEGIN:VEVENT
UID:ai1ec-4560@cisro.lu
DTSTAMP:20210426T111534Z
CATEGORIES:
CONTACT:
DESCRIPTION:<p>Wei all déi Joere virdrun begleede mir de Cortège vun der ru
 e des Sacrifiés bis an Kierch.<br />\nGala Uniform mat Donklenschong: Rend
 ez-vous am Bau 9:20 Auer.</p>
DTSTART;TZID=Europe/Berlin:20190512T092000
SEQUENCE:0
SUMMARY:Kommioun am Reiserbann
URL:https://cisro.lu/Veranstaltung/kommioun-am-reiserbann/
X-COST-TYPE:free
X-INSTANT-EVENT:1
END:VEVENT
END:VCALENDAR
