BEGIN:VCALENDAR
VERSION:2.0
PRODID:-//185.36.180.143//NONSGML kigkonsult.se iCalcreator 2.26.9//
CALSCALE:GREGORIAN
METHOD:PUBLISH
X-WR-CALNAME:CISRO
X-WR-CALDESC:CENTRE D&#039\;INCENDIE ET DE SECOURS ROESERBANN
X-FROM-URL:https://cisro.lu
X-WR-TIMEZONE:Europe/Berlin
BEGIN:VTIMEZONE
TZID:Europe/Berlin
X-LIC-LOCATION:Europe/Berlin
BEGIN:STANDARD
DTSTART:20211031T030000
TZOFFSETFROM:+0200
TZOFFSETTO:+0100
RDATE:20221030T030000
TZNAME:CET
END:STANDARD
BEGIN:DAYLIGHT
DTSTART:20210328T020000
TZOFFSETFROM:+0100
TZOFFSETTO:+0200
RDATE:20220327T020000,20230326T020000
TZNAME:CEST
END:DAYLIGHT
END:VTIMEZONE
BEGIN:VEVENT
UID:ai1ec-4468@cisro.lu
DTSTAMP:20211011T143441Z
CATEGORIES:
CONTACT:
DESCRIPTION:Deen wëll mat goen soll sech beim Jessica bis den 1 Mee mällen.
 \n \nKategorie              Alter                   Distanz Männer        
     Distanz Fraen\nMinimes:            8-9 Joer                     25 Met
 er                        25 Meter\nPupilles 1:          10-12 Joer       
            50 Meter                        50 Meter\nPupilles 2:          
 13-15 Joer                  50 Meter                        50 Meter\nRend
 ez-vous um 13.00 am Bau\, retour geint 18.00.\nUmeldung gellt just wann d’
 autorisation parentale ofgin as.
DTSTART;TZID=Europe/Berlin:20190512T130000
DTEND;TZID=Europe/Berlin:20190512T180000
SEQUENCE:0
SUMMARY:National Schwammmeeschterschaft
URL:https://cisro.lu/Veranstaltung/national-schwammmeeschterschaft/
X-COST-TYPE:free
X-ALT-DESC;FMTTYPE=text/html:<!DOCTYPE HTML PUBLIC '-//W3C//DTD HTML 3.2//E
 N'>\\n<HTML>\\n<HEAD>\\n<TITLE></TITLE>\\n</HEAD>\\n<BODY><p>Deen wëll mat
  goen soll sech beim Jessica bis den 1 Mee mällen.</p>\n<p> </p>\n<p><span
  style='color: #3366ff\;'>Kategorie              Alter                   D
 istanz Männer            Distanz Fraen</span></p>\n<p>Minimes:            
 8-9 Joer                     25 Meter                        25 Meter</p>
 \n<p>Pupilles 1:          10-12 Joer                  50 Meter            
             50 Meter</p>\n<p>Pupilles 2:          13-15 Joer              
     50 Meter                        50 Meter</p>\n<p>Rendez-vous um 13.00 
 am Bau\, retour geint 18.00.</p>\n<p>Umeldung gellt just wann d’autorisati
 on parentale ofgin as.</p>\n</BODY></HTML>
END:VEVENT
END:VCALENDAR
