BEGIN:VCALENDAR
VERSION:2.0
PRODID:-//185.36.180.143//NONSGML kigkonsult.se iCalcreator 2.26.9//
CALSCALE:GREGORIAN
METHOD:PUBLISH
X-WR-CALNAME:CISRO
X-WR-CALDESC:CENTRE D&#039\;INCENDIE ET DE SECOURS ROESERBANN
X-FROM-URL:https://cisro.lu
X-WR-TIMEZONE:Europe/Berlin
BEGIN:VTIMEZONE
TZID:Europe/Berlin
X-LIC-LOCATION:Europe/Berlin
BEGIN:STANDARD
DTSTART:20201025T030000
TZOFFSETFROM:+0200
TZOFFSETTO:+0100
RDATE:20211031T030000
TZNAME:CET
END:STANDARD
BEGIN:DAYLIGHT
DTSTART:20210328T020000
TZOFFSETFROM:+0100
TZOFFSETTO:+0200
RDATE:20220327T020000
TZNAME:CEST
END:DAYLIGHT
END:VTIMEZONE
BEGIN:VEVENT
UID:ai1ec-4327@cisro.lu
DTSTAMP:20210426T072709Z
CATEGORIES:
CONTACT:
DESCRIPTION:RDV um 10:00 am Bau\nGéint 14.15 Auer ass  d’Jugendübung\nD’Elt
 ere sinn Häerzlechst invitéiert hier Übung kucken ze kommen\nFir Iessen a 
 Gedrénks ass gesuergt.
DTSTART;VALUE=DATE:20190714
DTEND;VALUE=DATE:20190715
SEQUENCE:0
SUMMARY:Porte Ouverte
URL:https://cisro.lu/Veranstaltung/porte-ouverte/
X-COST-TYPE:free
X-ALT-DESC;FMTTYPE=text/html:<!DOCTYPE HTML PUBLIC '-//W3C//DTD HTML 3.2//E
 N'>\\n<HTML>\\n<HEAD>\\n<TITLE></TITLE>\\n</HEAD>\\n<BODY><p>RDV um 10:00 
 am Bau<br />\nGéint 14.15 Auer ass  d’Jugendübung</p>\n<p>D’Eltere sinn Hä
 erzlechst invitéiert hier Übung kucken ze kommen<br />\nFir Iessen a Gedré
 nks ass gesuergt.</p>\n</BODY></HTML>
END:VEVENT
END:VCALENDAR
