BEGIN:VCALENDAR
VERSION:2.0
PRODID:-//185.36.180.143//NONSGML kigkonsult.se iCalcreator 2.26.9//
CALSCALE:GREGORIAN
METHOD:PUBLISH
X-WR-CALNAME:CISRO
X-WR-CALDESC:CENTRE D&#039\;INCENDIE ET DE SECOURS ROESERBANN
X-FROM-URL:https://cisro.lu
X-WR-TIMEZONE:Europe/Berlin
BEGIN:VTIMEZONE
TZID:Europe/Berlin
X-LIC-LOCATION:Europe/Berlin
BEGIN:STANDARD
DTSTART:20201025T030000
TZOFFSETFROM:+0200
TZOFFSETTO:+0100
RDATE:20211031T030000
TZNAME:CET
END:STANDARD
BEGIN:DAYLIGHT
DTSTART:20210328T020000
TZOFFSETFROM:+0100
TZOFFSETTO:+0200
RDATE:20220327T020000
TZNAME:CEST
END:DAYLIGHT
END:VTIMEZONE
BEGIN:VEVENT
UID:ai1ec-4320@cisro.lu
DTSTAMP:20210426T111618Z
CATEGORIES:
CONTACT:
DESCRIPTION:<p>Rendez-vous um 18:30 am Bau.</p>\n<p>Retour geint 20:30</p>
 \n<p>Tenue: Gala Uniform mat <em><strong>DONKELEN </strong></em> Schong.</
 p>
DTSTART;TZID=Europe/Berlin:20190622T183000
DTEND;TZID=Europe/Berlin:20190622T203000
SEQUENCE:0
SUMMARY:Virowend vun Nationalfeierdag
URL:https://cisro.lu/Veranstaltung/virowend-vun-nationalfeierdag/
X-COST-TYPE:free
END:VEVENT
END:VCALENDAR
