BEGIN:VCALENDAR
VERSION:2.0
PRODID:-//185.36.180.143//NONSGML kigkonsult.se iCalcreator 2.26.9//
CALSCALE:GREGORIAN
METHOD:PUBLISH
X-WR-CALNAME:CISRO
X-WR-CALDESC:CENTRE D&#039\;INCENDIE ET DE SECOURS ROESERBANN
X-FROM-URL:https://cisro.lu
X-WR-TIMEZONE:Europe/Berlin
BEGIN:VTIMEZONE
TZID:Europe/Berlin
X-LIC-LOCATION:Europe/Berlin
BEGIN:STANDARD
DTSTART:20201025T030000
TZOFFSETFROM:+0200
TZOFFSETTO:+0100
RDATE:20211031T030000
TZNAME:CET
END:STANDARD
BEGIN:DAYLIGHT
DTSTART:20210328T020000
TZOFFSETFROM:+0100
TZOFFSETTO:+0200
RDATE:20220327T020000
TZNAME:CEST
END:DAYLIGHT
END:VTIMEZONE
BEGIN:VEVENT
UID:ai1ec-4311@cisro.lu
DTSTAMP:20210426T111443Z
CATEGORIES:
CONTACT:
DESCRIPTION:Folgend Kanner kënnen den Test maan\, wann ech gelift Bescheed 
 soen ob si den Test maan bis den 26 Januar.\nBronze: Jos\, David\, Maria C
 lara\nSëlwer: Mathilde\, Julie M\, Bryan
DTSTART;TZID=Europe/Berlin:20190323T130000
DTEND;TZID=Europe/Berlin:20190323T170000
SEQUENCE:0
SUMMARY:Wëssenstest zou Kayl
URL:https://cisro.lu/Veranstaltung/wessenstest-zou-kayl/
X-COST-TYPE:free
X-ALT-DESC;FMTTYPE=text/html:<!DOCTYPE HTML PUBLIC '-//W3C//DTD HTML 3.2//E
 N'>\\n<HTML>\\n<HEAD>\\n<TITLE></TITLE>\\n</HEAD>\\n<BODY><p>Folgend Kanne
 r kënnen den Test maan\, wann ech gelift Bescheed soen ob si den Test maan
  bis den 26 Januar.</p>\n<p>Bronze: Jos\, David\, Maria Clara</p>\n<p>Sëlw
 er: Mathilde\, Julie M\, Bryan</p>\n</BODY></HTML>
END:VEVENT
END:VCALENDAR
