BEGIN:VCALENDAR
VERSION:2.0
PRODID:-//185.36.180.143//NONSGML kigkonsult.se iCalcreator 2.26.9//
CALSCALE:GREGORIAN
METHOD:PUBLISH
X-WR-CALNAME:CISRO
X-WR-CALDESC:CENTRE D&#039\;INCENDIE ET DE SECOURS ROESERBANN
X-FROM-URL:https://cisro.lu
X-WR-TIMEZONE:Europe/Berlin
BEGIN:VTIMEZONE
TZID:Europe/Berlin
X-LIC-LOCATION:Europe/Berlin
BEGIN:STANDARD
DTSTART:20201025T030000
TZOFFSETFROM:+0200
TZOFFSETTO:+0100
RDATE:20211031T030000
TZNAME:CET
END:STANDARD
BEGIN:DAYLIGHT
DTSTART:20210328T020000
TZOFFSETFROM:+0100
TZOFFSETTO:+0200
RDATE:20220327T020000
TZNAME:CEST
END:DAYLIGHT
END:VTIMEZONE
BEGIN:VEVENT
UID:ai1ec-4301@cisro.lu
DTSTAMP:20210426T111341Z
CATEGORIES:
CONTACT:
DESCRIPTION:Umëllen bis den 16ten Januar beim Jessica\nTenue: Gala Uniform\
 , Fest/ Warm Schong dem Wieder entspriechend\, Parka\, Mutz an Händchen de
 n Wieder entspriechend\nDepart 13:00 am Bau\, Retour tëschend 17 an 18 Aue
 r
DTSTART;TZID=Europe/Berlin:20190126T130000
DTEND;TZID=Europe/Berlin:20190126T180000
SEQUENCE:0
SUMMARY:Wanterwanderung zou Kënzeg
URL:https://cisro.lu/Veranstaltung/wanterwanderung-zou-kenzeg/
X-COST-TYPE:free
X-ALT-DESC;FMTTYPE=text/html:<!DOCTYPE HTML PUBLIC '-//W3C//DTD HTML 3.2//E
 N'>\\n<HTML>\\n<HEAD>\\n<TITLE></TITLE>\\n</HEAD>\\n<BODY><p>Umëllen bis d
 en 16ten Januar beim Jessica<br />\nTenue: Gala Uniform\, Fest/ Warm Schon
 g dem Wieder entspriechend\, Parka\, Mutz an Händchen den Wieder entspriec
 hend<br />\nDepart 13:00 am Bau\, Retour tëschend 17 an 18 Auer</p>\n</BOD
 Y></HTML>
END:VEVENT
END:VCALENDAR
