BEGIN:VCALENDAR
VERSION:2.0
PRODID:-//185.36.180.143//NONSGML kigkonsult.se iCalcreator 2.26.9//
CALSCALE:GREGORIAN
METHOD:PUBLISH
X-WR-CALNAME:CISRO
X-WR-CALDESC:CENTRE D&#039\;INCENDIE ET DE SECOURS ROESERBANN
X-FROM-URL:https://cisro.lu
X-WR-TIMEZONE:Europe/Berlin
BEGIN:VTIMEZONE
TZID:Europe/Berlin
X-LIC-LOCATION:Europe/Berlin
BEGIN:STANDARD
DTSTART:20211031T030000
TZOFFSETFROM:+0200
TZOFFSETTO:+0100
RDATE:20221030T030000
TZNAME:CET
END:STANDARD
BEGIN:DAYLIGHT
DTSTART:20210328T020000
TZOFFSETFROM:+0100
TZOFFSETTO:+0200
RDATE:20220327T020000,20230326T020000
TZNAME:CEST
END:DAYLIGHT
END:VTIMEZONE
BEGIN:VEVENT
UID:ai1ec-4191@cisro.lu
DTSTAMP:20211011T142737Z
CATEGORIES:
CONTACT:
DESCRIPTION:<p>Mir <span class='eifeler_regel' title='si'>sinn</span> vun <
 span class='eifeler_regel' title='de'>den</span> Yutzer <span class='eifel
 er_regel' title='Pompjeeë'>Pompjeeën</span> fir eng Visitt Invitéiert <spa
 n class='eifeler_regel' title='gi'>ginn</span> bei hinnen an da Kasär \, <
 span class='eifeler_regel' title='a'>an</span> fir mat hirer Jugend ze sch
 affen.</p>\n<p>Wéini 4.11.2018</p>\n<p>Depart 9:00 Retour 18:00</p>\n<p>Më
 ttes <span class='eifeler_regel' title='iesse'>iessen</span> mir zesummen 
 do.</p>\n<p>Moies ass eng Visitt vun <span class='eifeler_regel' title='hi
 re'>hiren</span> Gefier <span class='eifeler_regel' title='a'>an</span> Më
 ttes eng Übung mat hinnen zesummen.</p>\n<p><span class='eifeler_regel' ti
 tle='Tenuen'>Tenue</span>: Gala Uniform</p>\n<p>Ween do wëll mat <span cla
 ss='eifeler_regel' title='goe'>goen</span> soll sech bis den 31 Oktober be
 im Jess umellen .</p>
DTSTART;TZID=Europe/Berlin:20181104T090000
DTEND;TZID=Europe/Berlin:20181104T180000
SEQUENCE:0
SUMMARY:Visite zu Yutz mat Übung
URL:https://cisro.lu/Veranstaltung/visite-zu-yutz-mat-uebung/
X-COST-TYPE:free
END:VEVENT
END:VCALENDAR
