BEGIN:VCALENDAR
VERSION:2.0
PRODID:-//185.36.180.143//NONSGML kigkonsult.se iCalcreator 2.26.9//
CALSCALE:GREGORIAN
METHOD:PUBLISH
X-WR-CALNAME:CISRO
X-WR-CALDESC:CENTRE D&#039\;INCENDIE ET DE SECOURS ROESERBANN
X-FROM-URL:https://cisro.lu
X-WR-TIMEZONE:Europe/Berlin
BEGIN:VTIMEZONE
TZID:Europe/Berlin
X-LIC-LOCATION:Europe/Berlin
BEGIN:STANDARD
DTSTART:20201025T030000
TZOFFSETFROM:+0200
TZOFFSETTO:+0100
RDATE:20211031T030000
TZNAME:CET
END:STANDARD
BEGIN:DAYLIGHT
DTSTART:20210328T020000
TZOFFSETFROM:+0100
TZOFFSETTO:+0200
RDATE:20220327T020000
TZNAME:CEST
END:DAYLIGHT
END:VTIMEZONE
BEGIN:VEVENT
UID:ai1ec-4190@cisro.lu
DTSTAMP:20210426T072715Z
CATEGORIES:
CONTACT:
DESCRIPTION:Rendez-vous fier op de Camp as den 2 September um 13:45 am Bau.
 \nDenkt och drun iech fir den Camp unzemëllen bis Januar mussen dei Provis
 oresch Umeldungen eran sin fir daat sie sech kënnen organiseieren. Fir dei
  Definitv Umeldung kënnt mei speit na een Ziedel raus.\nVirum Camp wäert o
 ch nach eng Informatiounsversammlung fir d Elteren fir den Camp sinn.\nWat
  méi Kanner mat  ginn\, wat  et  méi flott gëtt.\nDéi ganz Woch schlofen m
 ir an Zelter\, d’ganz Woch steet Spill\, Spaass an Aktivitéiten um Program
 m.
DTSTART;VALUE=DATE:20190902
DTEND;VALUE=DATE:20190908
SEQUENCE:0
SUMMARY:Jugendcamp fum 2-7 September zu Beetebuerg
URL:https://cisro.lu/Veranstaltung/jugendcamp-2019/
X-COST-TYPE:free
X-ALT-DESC;FMTTYPE=text/html:<!DOCTYPE HTML PUBLIC '-//W3C//DTD HTML 3.2//E
 N'>\\n<HTML>\\n<HEAD>\\n<TITLE></TITLE>\\n</HEAD>\\n<BODY><p>Rendez-vous f
 ier op de Camp as den 2 September um 13:45 am Bau.</p>\n<p>Denkt och drun 
 iech fir den Camp unzemëllen bis Januar mussen dei Provisoresch Umeldungen
  eran sin fir daat sie sech kënnen organiseieren. Fir dei Definitv Umeldun
 g kënnt mei speit na een Ziedel raus.<br />\nVirum Camp wäert och nach eng
  Informatiounsversammlung fir d Elteren fir den Camp sinn.<br />\nWat méi 
 Kanner mat  ginn\, wat  et  méi flott gëtt.<br />\nDéi ganz Woch schlofen 
 mir an Zelter\, d’ganz Woch steet Spill\, Spaass an Aktivitéiten um Progra
 mm.</p>\n</BODY></HTML>
END:VEVENT
END:VCALENDAR
