BEGIN:VCALENDAR
VERSION:2.0
PRODID:-//185.36.180.143//NONSGML kigkonsult.se iCalcreator 2.26.9//
CALSCALE:GREGORIAN
METHOD:PUBLISH
X-WR-CALNAME:CISRO
X-WR-CALDESC:CENTRE D&#039\;INCENDIE ET DE SECOURS ROESERBANN
X-FROM-URL:https://cisro.lu
X-WR-TIMEZONE:Europe/Berlin
BEGIN:VTIMEZONE
TZID:Europe/Berlin
X-LIC-LOCATION:Europe/Berlin
BEGIN:STANDARD
DTSTART:20201025T030000
TZOFFSETFROM:+0200
TZOFFSETTO:+0100
RDATE:20211031T030000
TZNAME:CET
END:STANDARD
BEGIN:DAYLIGHT
DTSTART:20210328T020000
TZOFFSETFROM:+0100
TZOFFSETTO:+0200
RDATE:20220327T020000
TZNAME:CEST
END:DAYLIGHT
END:VTIMEZONE
BEGIN:VEVENT
UID:ai1ec-4023@cisro.lu
DTSTAMP:20210426T111307Z
CATEGORIES:
CONTACT:
DESCRIPTION:Tenue: Galauniform mat donkele Schong.\nDe Kleesche kennt an de
  Réiserbann. Mir ëmfänken de grousse Mann bei der Schoul an der Cité zou K
 rautem. Da gi mir am Cortège bis an de Salle Blouet am Gemengenhaus.
DTSTART;TZID=Europe/Berlin:20181201T140000
DTEND;TZID=Europe/Berlin:20181201T170000
SEQUENCE:0
SUMMARY:Cortège mam Kleeschen
URL:https://cisro.lu/Veranstaltung/cortege-mam-kleeschen/
X-COST-TYPE:free
X-ALT-DESC;FMTTYPE=text/html:<!DOCTYPE HTML PUBLIC '-//W3C//DTD HTML 3.2//E
 N'>\\n<HTML>\\n<HEAD>\\n<TITLE></TITLE>\\n</HEAD>\\n<BODY><p>Tenue: Galaun
 iform mat donkele Schong.<br />\nDe Kleesche kennt an de Réiserbann. Mir ë
 mfänken de grousse Mann bei der Schoul an der Cité zou Krautem. Da gi mir 
 am Cortège bis an de Salle Blouet am Gemengenhaus.</p>\n</BODY></HTML>
END:VEVENT
END:VCALENDAR
