BEGIN:VCALENDAR
VERSION:2.0
PRODID:-//185.36.180.143//NONSGML kigkonsult.se iCalcreator 2.26.9//
CALSCALE:GREGORIAN
METHOD:PUBLISH
X-WR-CALNAME:CISRO
X-WR-CALDESC:CENTRE D&#039\;INCENDIE ET DE SECOURS ROESERBANN
X-FROM-URL:https://cisro.lu
X-WR-TIMEZONE:Europe/Berlin
BEGIN:VTIMEZONE
TZID:Europe/Berlin
X-LIC-LOCATION:Europe/Berlin
BEGIN:STANDARD
DTSTART:20201025T030000
TZOFFSETFROM:+0200
TZOFFSETTO:+0100
RDATE:20211031T030000
TZNAME:CET
END:STANDARD
BEGIN:DAYLIGHT
DTSTART:20210328T020000
TZOFFSETFROM:+0100
TZOFFSETTO:+0200
RDATE:20220327T020000
TZNAME:CEST
END:DAYLIGHT
END:VTIMEZONE
BEGIN:VEVENT
UID:ai1ec-4022@cisro.lu
DTSTAMP:20210426T111300Z
CATEGORIES:
CONTACT:
DESCRIPTION:Rendez-vous um 16.30 am Bau.\nTenue: Galauniform mat donkelen S
 chong.\nUngemëllt sin\nGilles\nChristophe\nBernardo\nJulie A\nLoic\nMaria 
 Klara\nBryan\nJulien M\nLilly\nMathild\nKilian\nAfonso\n \nDenkt och drun 
 iech fir den Camp unzemëllen bis Januar mussen dei Provisoresch Umeldungen
  eran sin fir daat sie sech kënnen organiseieren. Fir dei Definitv Umeldun
 g kënnt mei speit na een Ziedel raus.\nMerci
DTSTART;TZID=Europe/Berlin:20181124T163000
DTEND;TZID=Europe/Berlin:20181124T200000
SEQUENCE:0
SUMMARY:Séance académique
URL:https://cisro.lu/Veranstaltung/uebung-theorie-17/
X-COST-TYPE:free
X-ALT-DESC;FMTTYPE=text/html:<!DOCTYPE HTML PUBLIC '-//W3C//DTD HTML 3.2//E
 N'>\\n<HTML>\\n<HEAD>\\n<TITLE></TITLE>\\n</HEAD>\\n<BODY><p>Rendez-vous u
 m 16.30 am Bau.</p>\n<p>Tenue: Galauniform mat donkelen Schong.</p>\n<p>Un
 gemëllt sin</p>\n<p>Gilles</p>\n<p>Christophe</p>\n<p>Bernardo</p>\n<p>Jul
 ie A</p>\n<p>Loic</p>\n<p>Maria Klara</p>\n<p>Bryan</p>\n<p>Julien M</p>\n
 <p>Lilly</p>\n<p>Mathild</p>\n<p>Kilian</p>\n<p>Afonso</p>\n<p> </p>\n<p>D
 enkt och drun iech fir den Camp unzemëllen bis Januar mussen dei Provisore
 sch Umeldungen eran sin fir daat sie sech kënnen organiseieren. Fir dei De
 finitv Umeldung kënnt mei speit na een Ziedel raus.<br />\nMerci</p>\n</BO
 DY></HTML>
END:VEVENT
END:VCALENDAR
