BEGIN:VCALENDAR
VERSION:2.0
PRODID:-//185.36.180.143//NONSGML kigkonsult.se iCalcreator 2.26.9//
CALSCALE:GREGORIAN
METHOD:PUBLISH
X-WR-CALNAME:CISRO
X-WR-CALDESC:CENTRE D&#039\;INCENDIE ET DE SECOURS ROESERBANN
X-FROM-URL:https://cisro.lu
X-WR-TIMEZONE:Europe/Berlin
BEGIN:VTIMEZONE
TZID:Europe/Berlin
X-LIC-LOCATION:Europe/Berlin
BEGIN:STANDARD
DTSTART:20211031T030000
TZOFFSETFROM:+0200
TZOFFSETTO:+0100
RDATE:20221030T030000
TZNAME:CET
END:STANDARD
BEGIN:DAYLIGHT
DTSTART:20210328T020000
TZOFFSETFROM:+0100
TZOFFSETTO:+0200
RDATE:20220327T020000,20230326T020000
TZNAME:CEST
END:DAYLIGHT
END:VTIMEZONE
BEGIN:VEVENT
UID:ai1ec-4019@cisro.lu
DTSTAMP:20211011T142547Z
CATEGORIES:
CONTACT:
DESCRIPTION:Umeldeschluss den 10 Oktober beim Jessica. D’Umeldung ass nëmme
 n gëlteg mat der Autorisatioun vun den Elteren. Den Ziedel kréien se vum J
 essica.\n \n \nKategorie              Alter                   Distanz Männ
 er            Distanz Fraen\nMinimes:            8-9 Joer                 
     25 Meter                        25 Meter\nPupilles 1:          10-12 J
 oer                  50 Meter                        50 Meter\nPupilles 2:
           13-15 Joer                  50 Meter                        50 M
 eter\n \nUgemellt sin Bryan\,Loic\, Bernardo\, Julie Mackel an Julie Alves
 .\nDepart 13:30\nMathuelen : Schwammsaachen-Schwammkap\nDusch Saachen\nDen
  Pompjeeës T Shirt\n2 Euro fir an den Spint\nWann nach een wëll mat kucken
  goen oder déi aner ufeieren soll en se sech beim Jess umellen.\nRetour no
  da Präisiwwerreechung.
DTSTART;TZID=Europe/Berlin:20181021T130000
DTEND;TZID=Europe/Berlin:20181021T180000
SEQUENCE:0
SUMMARY:Schwammmeschterschaft zu Beetebourg
URL:https://cisro.lu/Veranstaltung/schwammmeschterschaft-zu-beetebourg/
X-COST-TYPE:free
X-ALT-DESC;FMTTYPE=text/html:<!DOCTYPE HTML PUBLIC '-//W3C//DTD HTML 3.2//E
 N'>\\n<HTML>\\n<HEAD>\\n<TITLE></TITLE>\\n</HEAD>\\n<BODY><p>Umeldeschluss
  den 10 Oktober beim Jessica. D’Umeldung ass nëmmen gëlteg mat der Autoris
 atioun vun den Elteren. Den Ziedel kréien se vum Jessica.</p>\n<p> </p>\n<
 p> </p>\n<p><span style='color: #3366ff\;'>Kategorie              Alter   
                 Distanz Männer            Distanz Fraen</span></p>\n<p>Min
 imes:            8-9 Joer                     25 Meter                    
     25 Meter</p>\n<p>Pupilles 1:          10-12 Joer                  50 M
 eter                        50 Meter</p>\n<p>Pupilles 2:          13-15 Jo
 er                  50 Meter                        50 Meter</p>\n<p> </p>
 \n<p>Ugemellt sin Bryan\,Loic\, Bernardo\, Julie Mackel an Julie Alves.<br
  />\nDepart 13:30</p>\n<p>Mathuelen : Schwammsaachen-Schwammkap</p>\n<p>Du
 sch Saachen</p>\n<p>Den Pompjeeës T Shirt</p>\n<p>2 Euro fir an den Spint<
 /p>\n<p>Wann nach een wëll mat kucken goen oder déi aner ufeieren soll en 
 se sech beim Jess umellen.<br />\nRetour no da Präisiwwerreechung.</p>\n</
 BODY></HTML>
END:VEVENT
END:VCALENDAR
