BEGIN:VCALENDAR
VERSION:2.0
PRODID:-//185.36.180.143//NONSGML kigkonsult.se iCalcreator 2.26.9//
CALSCALE:GREGORIAN
METHOD:PUBLISH
X-WR-CALNAME:CISRO
X-WR-CALDESC:CENTRE D&#039\;INCENDIE ET DE SECOURS ROESERBANN
X-FROM-URL:https://cisro.lu
X-WR-TIMEZONE:Europe/Berlin
BEGIN:VTIMEZONE
TZID:Europe/Berlin
X-LIC-LOCATION:Europe/Berlin
BEGIN:STANDARD
DTSTART:20201025T030000
TZOFFSETFROM:+0200
TZOFFSETTO:+0100
RDATE:20211031T030000
TZNAME:CET
END:STANDARD
BEGIN:DAYLIGHT
DTSTART:20210328T020000
TZOFFSETFROM:+0100
TZOFFSETTO:+0200
RDATE:20220327T020000
TZNAME:CEST
END:DAYLIGHT
END:VTIMEZONE
BEGIN:VEVENT
UID:ai1ec-4011@cisro.lu
DTSTAMP:20210426T111125Z
CATEGORIES:
CONTACT:
DESCRIPTION:D’Kanner sollen sech bis den 23 ten Juli umëllen ob si kommen\,
  wann manner wei 5 kommen\, ass keng Übung
DTSTART;TZID=Europe/Berlin:20180728T092000
DTEND;TZID=Europe/Berlin:20180728T113000
SEQUENCE:0
SUMMARY:Übung/Theorie
URL:https://cisro.lu/Veranstaltung/uebung-theorie-10/
X-COST-TYPE:free
X-ALT-DESC;FMTTYPE=text/html:<!DOCTYPE HTML PUBLIC '-//W3C//DTD HTML 3.2//E
 N'>\\n<HTML>\\n<HEAD>\\n<TITLE></TITLE>\\n</HEAD>\\n<BODY><p>D’Kanner soll
 en sech bis den 23 ten Juli umëllen ob si kommen\, wann manner wei 5 komme
 n\, ass keng Übung</p>\n</BODY></HTML>
END:VEVENT
END:VCALENDAR
