BEGIN:VCALENDAR
VERSION:2.0
PRODID:-//185.36.180.143//NONSGML kigkonsult.se iCalcreator 2.26.9//
CALSCALE:GREGORIAN
METHOD:PUBLISH
X-WR-CALNAME:CISRO
X-WR-CALDESC:CENTRE D&#039\;INCENDIE ET DE SECOURS ROESERBANN
X-FROM-URL:https://cisro.lu
X-WR-TIMEZONE:Europe/Berlin
BEGIN:VTIMEZONE
TZID:Europe/Berlin
X-LIC-LOCATION:Europe/Berlin
BEGIN:STANDARD
DTSTART:20201025T030000
TZOFFSETFROM:+0200
TZOFFSETTO:+0100
RDATE:20211031T030000
TZNAME:CET
END:STANDARD
BEGIN:DAYLIGHT
DTSTART:20210328T020000
TZOFFSETFROM:+0100
TZOFFSETTO:+0200
RDATE:20220327T020000
TZNAME:CEST
END:DAYLIGHT
END:VTIMEZONE
BEGIN:VEVENT
UID:ai1ec-3832@cisro.lu
DTSTAMP:20210426T111046Z
CATEGORIES:
CONTACT:
DESCRIPTION:Rendez-vous as um 13.00 Auer am Bau!!!\nTenue: Pompjees T-shirt
  mat short.\nWeen do de Gilles\, Rayan an Killian well ënnerstëtze goe sol
 l sech bis den 30 Juni beim Jess mëllen!!\nFir de Gilles\, Rayan an Killia
 n geet et scho moies lass.\n..
DTSTART;TZID=Europe/Berlin:20180701T130000
DTEND;TZID=Europe/Berlin:20180701T170000
SEQUENCE:0
SUMMARY:Nationalen Concours zu Monnerech
URL:https://cisro.lu/Veranstaltung/nationalen-concours-zu-monnerech/
X-COST-TYPE:free
X-ALT-DESC;FMTTYPE=text/html:<!DOCTYPE HTML PUBLIC '-//W3C//DTD HTML 3.2//E
 N'>\\n<HTML>\\n<HEAD>\\n<TITLE></TITLE>\\n</HEAD>\\n<BODY><p>Rendez-vous a
 s um 13.00 Auer am Bau!!!</p>\n<p>Tenue: Pompjees T-shirt mat short.</p>\n
 <p>Ween do de Gilles\, Rayan an Killian well ënnerstëtze goe soll sech bis
  den 30 Juni beim Jess mëllen!!</p>\n<p>Fir de Gilles\, Rayan an Killian g
 eet et scho moies lass.</p>\n<p>..</p>\n</BODY></HTML>
END:VEVENT
END:VCALENDAR
