BEGIN:VCALENDAR
VERSION:2.0
PRODID:-//185.36.180.143//NONSGML kigkonsult.se iCalcreator 2.26.9//
CALSCALE:GREGORIAN
METHOD:PUBLISH
X-WR-CALNAME:CISRO
X-WR-CALDESC:CENTRE D&#039\;INCENDIE ET DE SECOURS ROESERBANN
X-FROM-URL:https://cisro.lu
X-WR-TIMEZONE:Europe/Berlin
BEGIN:VTIMEZONE
TZID:Europe/Berlin
X-LIC-LOCATION:Europe/Berlin
BEGIN:STANDARD
DTSTART:20211031T030000
TZOFFSETFROM:+0200
TZOFFSETTO:+0100
RDATE:20221030T030000
TZNAME:CET
END:STANDARD
BEGIN:DAYLIGHT
DTSTART:20210328T020000
TZOFFSETFROM:+0100
TZOFFSETTO:+0200
RDATE:20220327T020000,20230326T020000
TZNAME:CEST
END:DAYLIGHT
END:VTIMEZONE
BEGIN:VEVENT
UID:ai1ec-3460@cisro.lu
DTSTAMP:20211011T142620Z
CATEGORIES:
CONTACT:
DESCRIPTION:Weider Detailer kommen no.\nDo wärten och nach Therorien an der
  Woch sin fier dei die den Test maachen.\nUgemellt sin: Julie\,Christophe 
 an Loic
DTSTART;TZID=Europe/Berlin:20181027T130000
DTEND;TZID=Europe/Berlin:20181027T170000
SEQUENCE:0
SUMMARY:Wëssenstest zu Esch
URL:https://cisro.lu/Veranstaltung/wessenstest-3/
X-COST-TYPE:free
X-ALT-DESC;FMTTYPE=text/html:<!DOCTYPE HTML PUBLIC '-//W3C//DTD HTML 3.2//E
 N'>\\n<HTML>\\n<HEAD>\\n<TITLE></TITLE>\\n</HEAD>\\n<BODY><p>Weider Detail
 er kommen no.</p>\n<p>Do wärten och nach Therorien an der Woch sin fier de
 i die den Test maachen.</p>\n<p>Ugemellt sin: Julie\,Christophe an Loic</p
 >\n</BODY></HTML>
END:VEVENT
END:VCALENDAR
